BEGIN:VCALENDAR
VERSION:2.0
PRODID:-//Valley OTHG Motocross - ECPv6.10.1.1//NONSGML v1.0//EN
CALSCALE:GREGORIAN
METHOD:PUBLISH
X-ORIGINAL-URL:https://valleyothg.com
X-WR-CALDESC:Events for Valley OTHG Motocross
REFRESH-INTERVAL;VALUE=DURATION:PT1H
X-Robots-Tag:noindex
X-PUBLISHED-TTL:PT1H
BEGIN:VTIMEZONE
TZID:America/Los_Angeles
BEGIN:DAYLIGHT
TZOFFSETFROM:-0800
TZOFFSETTO:-0700
TZNAME:PDT
DTSTART:20260308T100000
END:DAYLIGHT
BEGIN:STANDARD
TZOFFSETFROM:-0700
TZOFFSETTO:-0800
TZNAME:PST
DTSTART:20261101T090000
END:STANDARD
END:VTIMEZONE
BEGIN:VEVENT
DTSTART;VALUE=DATE:20260301
DTEND;VALUE=DATE:20260302
DTSTAMP:20260424T100551
CREATED:20231214T211312Z
LAST-MODIFIED:20260103T183124Z
UID:5404-1772323200-1772409599@valleyothg.com
SUMMARY:Honolulu Hills Raceway - Valley vs Sound Round 1 (South Warm-Up)
DESCRIPTION:
URL:https://valleyothg.com/event/cal-city-mx-valley-vs-sound-round-1
LOCATION:Honolulu Hills Raceway\, 26217 Honolulu Rd\, Taft\, CA\, 93268\, United States
END:VEVENT
BEGIN:VEVENT
DTSTART;VALUE=DATE:20260314
DTEND;VALUE=DATE:20260316
DTSTAMP:20260424T100551
CREATED:20231214T211656Z
LAST-MODIFIED:20260103T183439Z
UID:5410-1773446400-1773619199@valleyothg.com
SUMMARY:South National - Honolulu Hills MX
DESCRIPTION:
URL:https://valleyothg.com/event/south-national-honolulu-hills-raceway
LOCATION:Honolulu Hills Raceway\, 26217 Honolulu Rd\, Taft\, CA\, 93268\, United States
END:VEVENT
END:VCALENDAR