BEGIN:VCALENDAR
VERSION:2.0
PRODID:-//Valley OTHG Motocross - ECPv6.10.1.1//NONSGML v1.0//EN
CALSCALE:GREGORIAN
METHOD:PUBLISH
X-WR-CALNAME:Valley OTHG Motocross
X-ORIGINAL-URL:https://valleyothg.com
X-WR-CALDESC:Events for Valley OTHG Motocross
REFRESH-INTERVAL;VALUE=DURATION:PT1H
X-Robots-Tag:noindex
X-PUBLISHED-TTL:PT1H
BEGIN:VTIMEZONE
TZID:America/Los_Angeles
BEGIN:DAYLIGHT
TZOFFSETFROM:-0800
TZOFFSETTO:-0700
TZNAME:PDT
DTSTART:20260308T100000
END:DAYLIGHT
BEGIN:STANDARD
TZOFFSETFROM:-0700
TZOFFSETTO:-0800
TZNAME:PST
DTSTART:20261101T090000
END:STANDARD
END:VTIMEZONE
BEGIN:VEVENT
DTSTART;VALUE=DATE:20260523
DTEND;VALUE=DATE:20260525
DTSTAMP:20260424T113648
CREATED:20231214T212532Z
LAST-MODIFIED:20260103T184052Z
UID:5418-1779494400-1779667199@valleyothg.com
SUMMARY:Reno National - Fernley MX
DESCRIPTION:
URL:https://valleyothg.com/event/reno-national-fernley-mx
LOCATION:Fernley\, 400 Vine St\, Fernley\, NV\, 89408\, United States
END:VEVENT
END:VCALENDAR