BEGIN:VCALENDAR
VERSION:2.0
PRODID:-//Valley OTHG Motocross - ECPv6.10.1.1//NONSGML v1.0//EN
CALSCALE:GREGORIAN
METHOD:PUBLISH
X-WR-CALNAME:Valley OTHG Motocross
X-ORIGINAL-URL:https://valleyothg.com
X-WR-CALDESC:Events for Valley OTHG Motocross
REFRESH-INTERVAL;VALUE=DURATION:PT1H
X-Robots-Tag:noindex
X-PUBLISHED-TTL:PT1H
BEGIN:VTIMEZONE
TZID:America/Los_Angeles
BEGIN:DAYLIGHT
TZOFFSETFROM:-0800
TZOFFSETTO:-0700
TZNAME:PDT
DTSTART:20260308T100000
END:DAYLIGHT
BEGIN:STANDARD
TZOFFSETFROM:-0700
TZOFFSETTO:-0800
TZNAME:PST
DTSTART:20261101T090000
END:STANDARD
END:VTIMEZONE
BEGIN:VEVENT
DTSTART;VALUE=DATE:20260201
DTEND;VALUE=DATE:20260202
DTSTAMP:20260424T131742
CREATED:20231214T211148Z
LAST-MODIFIED:20260103T182702Z
UID:5402-1769904000-1769990399@valleyothg.com
SUMMARY:DT1 MX Park - Season Opener
DESCRIPTION:
URL:https://valleyothg.com/event/dt1-mx-park
LOCATION:DT1 MX Park\, 2300 w. Paige Ave\, Tulare\, CA\, 93274\, United States
END:VEVENT
END:VCALENDAR